BEGIN:VCALENDAR
VERSION:2.0
PRODID:-//Boldre War Memorial Hall - ECPv5.10.0//NONSGML v1.0//EN
CALSCALE:GREGORIAN
METHOD:PUBLISH
X-WR-CALNAME:Boldre War Memorial Hall
X-ORIGINAL-URL:https://boldrehall.org.uk
X-WR-CALDESC:Events for Boldre War Memorial Hall
BEGIN:VTIMEZONE
TZID:UTC
BEGIN:STANDARD
TZOFFSETFROM:+0000
TZOFFSETTO:+0000
TZNAME:UTC
DTSTART:20200101T000000
END:STANDARD
END:VTIMEZONE
BEGIN:VEVENT
DTSTART;TZID=UTC:20201012T183000
DTEND;TZID=UTC:20201012T213000
DTSTAMP:20260421T135108
CREATED:20200913T215424Z
LAST-MODIFIED:20200913T221809Z
UID:57-1602527400-1602538200@boldrehall.org.uk
SUMMARY:BPC Meeting
DESCRIPTION:BPC Meeting
URL:https://boldrehall.org.uk/event/bpc-meeting
CATEGORIES:BWMH Small Hall
END:VEVENT
END:VCALENDAR